BEGIN:VCALENDAR
VERSION:2.0
PRODID:-//Youth4planet di Legambiente - ECPv5.9.1//NONSGML v1.0//EN
CALSCALE:GREGORIAN
METHOD:PUBLISH
X-WR-CALNAME:Youth4planet di Legambiente
X-ORIGINAL-URL:https://youth4planet.legambiente.it
X-WR-CALDESC:Eventi per Youth4planet di Legambiente
BEGIN:VTIMEZONE
TZID:Europe/Rome
BEGIN:DAYLIGHT
TZOFFSETFROM:+0100
TZOFFSETTO:+0200
TZNAME:CEST
DTSTART:20220327T010000
END:DAYLIGHT
BEGIN:STANDARD
TZOFFSETFROM:+0200
TZOFFSETTO:+0100
TZNAME:CET
DTSTART:20221030T010000
END:STANDARD
END:VTIMEZONE
BEGIN:VEVENT
DTSTART;TZID=Europe/Rome:20220507T100000
DTEND;TZID=Europe/Rome:20220507T160000
DTSTAMP:20260420T152132
CREATED:20220426T140025Z
LAST-MODIFIED:20220426T140025Z
UID:1695-1651917600-1651939200@youth4planet.legambiente.it
SUMMARY:YOUth Climate Meeting a Genova
DESCRIPTION:Ti piacerebbe passare una giornata insieme a giovani che come te hanno a cuore il futuro del pianeta?\nTi sei mai chiest* quale impatto sui cambiamenti climatici ha ciò che mangi o l’energia che consumi tutti i giorni? \nSabato 7 maggio a partire dalle 10 ti aspettiamo alla prima edizione ligure dello YOUth Climate Meeting per partecipare insieme a workshop\, dibattiti e attività di cura del verde. \nProgramma: \n– ore 10: accoglienza e registrazione partecipanti\n– ore 10-30-11: introduzione alla giornata\n– ore 11-13: workshop ‘Cambiamenti climatici: Energia’ e ‘Ambientalismo scientifico e citizen science’\n– ore 13-14: pranzo al sacco\n– ore 14-16: workshop ‘Cambiamenti climatici: Agroalimentare’ e attività di cura del verde \nPer partecipare è necessaria l’iscrizione al seguente link:\nhttps://bit.ly/3OlTTnb
URL:https://youth4planet.legambiente.it/evento/youth-climate-meeting-a-genova/
LOCATION:GENOVA – Casa Gavoglio\, via del Lagaccio 41\, Genova\, Italia
ATTACH;FMTTYPE=image/png:https://youth4planet.legambiente.it/wp-content/uploads/2022/04/Genova-youth-climate-meeting.png
ORGANIZER;CN="Alice%20Micchini":MAILTO:a.micchini@legambienteliguria.org
END:VEVENT
END:VCALENDAR