BEGIN:VCALENDAR
VERSION:2.0
PRODID:-//Youth4planet di Legambiente - ECPv5.9.1//NONSGML v1.0//EN
CALSCALE:GREGORIAN
METHOD:PUBLISH
X-WR-CALNAME:Youth4planet di Legambiente
X-ORIGINAL-URL:https://youth4planet.legambiente.it
X-WR-CALDESC:Eventi per Youth4planet di Legambiente
BEGIN:VTIMEZONE
TZID:Europe/Rome
BEGIN:DAYLIGHT
TZOFFSETFROM:+0100
TZOFFSETTO:+0200
TZNAME:CEST
DTSTART:20220327T010000
END:DAYLIGHT
BEGIN:STANDARD
TZOFFSETFROM:+0200
TZOFFSETTO:+0100
TZNAME:CET
DTSTART:20221030T010000
END:STANDARD
END:VTIMEZONE
BEGIN:VEVENT
DTSTART;TZID=Europe/Rome:20220412T150000
DTEND;TZID=Europe/Rome:20220412T170000
DTSTAMP:20260421T084819
CREATED:20220407T175750Z
LAST-MODIFIED:20220407T175849Z
UID:1633-1649775600-1649782800@youth4planet.legambiente.it
SUMMARY:Workshop sulle Ecomafie
DESCRIPTION:Legambiente Campania e Link Fisciano\, martedì 12 𝐀𝐩𝐫𝐢𝐥𝐞 alle 15\, si incontrano all’aula verde dell’Unisa e invitano le studentesse e gli studenti ad un momento di confronto su un tema di estrema attualità: quello delle Ecomafie. \nLavoreremo in modalità non formale\, per cui non è necessario conoscere affondo l’argomento. \nBasta essere motivati ed avere spirito critico\, al resto ci pensiamo noi! \nIscriviti all’evento attraverso il link qui sotto: \nhttps://forms.gle/jXWcB5HNUC2hYjVt7 \n 
URL:https://youth4planet.legambiente.it/evento/workshop-sulle-ecomafie/
LOCATION:Università degli Studi di Salerno\, Italia
ATTACH;FMTTYPE=image/png:https://youth4planet.legambiente.it/wp-content/uploads/2022/04/Copertine-Evento.png
ORGANIZER;CN="Grazia%20Maria%20Forino":MAILTO:gm.forino@legambiente.campania.it
END:VEVENT
END:VCALENDAR