BEGIN:VCALENDAR
VERSION:2.0
PRODID:-//Youth4planet di Legambiente - ECPv5.9.1//NONSGML v1.0//EN
CALSCALE:GREGORIAN
METHOD:PUBLISH
X-WR-CALNAME:Youth4planet di Legambiente
X-ORIGINAL-URL:https://youth4planet.legambiente.it
X-WR-CALDESC:Eventi per Youth4planet di Legambiente
BEGIN:VTIMEZONE
TZID:Europe/Rome
BEGIN:DAYLIGHT
TZOFFSETFROM:+0100
TZOFFSETTO:+0200
TZNAME:CEST
DTSTART:20210328T010000
END:DAYLIGHT
BEGIN:STANDARD
TZOFFSETFROM:+0200
TZOFFSETTO:+0100
TZNAME:CET
DTSTART:20211031T010000
END:STANDARD
END:VTIMEZONE
BEGIN:VEVENT
DTSTART;TZID=Europe/Rome:20211121T090000
DTEND;TZID=Europe/Rome:20211121T130000
DTSTAMP:20260423T145057
CREATED:20211117T152935Z
LAST-MODIFIED:20211117T153703Z
UID:1303-1637485200-1637499600@youth4planet.legambiente.it
SUMMARY:Sulle tracce dei monumenti verdi
DESCRIPTION:L’iniziativa\, promossa dal Coordinamento giovani di Legambiente Sicilia e Legambiente Sicilia\, prevede una passeggiata all’interno di Villa Malfitano\, Villa Trabia e del Giardino Inglese per scoprire gli alberi monumentali cittadini\, le aree verdi e chiedere la loro valorizzazione e tutela. \nAppuntamento il 21 novembre ore 09:00 presso il CEAS (Centro di Educazione Ambientale e della Sostenibilità) Rospo Smeraldino di Legambiente Sicilia\, Cantieri Culturali alla Zisa\, Palermo. \n\n\n\n\n\n Partecipa\n\n\n\n  \n 
URL:https://youth4planet.legambiente.it/evento/sulle-tracce-dei-monumenti-verdi/
LOCATION:Cantieri culturali alla Zisa\, Via Paolo Gili\, 4\, Palermo\, Italia
ATTACH;FMTTYPE=image/png:https://youth4planet.legambiente.it/wp-content/uploads/2021/11/Palermo.png
ORGANIZER;CN="Giuseppe%20Alfieri":MAILTO:segreteria@greenlablegambiente.it
END:VEVENT
END:VCALENDAR