BEGIN:VCALENDAR
VERSION:2.0
PRODID:-//Youth4planet di Legambiente - ECPv5.9.1//NONSGML v1.0//EN
CALSCALE:GREGORIAN
METHOD:PUBLISH
X-WR-CALNAME:Youth4planet di Legambiente
X-ORIGINAL-URL:https://youth4planet.legambiente.it
X-WR-CALDESC:Eventi per Youth4planet di Legambiente
BEGIN:VTIMEZONE
TZID:Europe/Rome
BEGIN:DAYLIGHT
TZOFFSETFROM:+0100
TZOFFSETTO:+0200
TZNAME:CEST
DTSTART:20220327T010000
END:DAYLIGHT
BEGIN:STANDARD
TZOFFSETFROM:+0200
TZOFFSETTO:+0100
TZNAME:CET
DTSTART:20221030T010000
END:STANDARD
END:VTIMEZONE
BEGIN:VEVENT
DTSTART;VALUE=DATE:20220513
DTEND;VALUE=DATE:20220514
DTSTAMP:20260420T094217
CREATED:20220510T104559Z
LAST-MODIFIED:20220510T120953Z
UID:1728-1652400000-1652486399@youth4planet.legambiente.it
SUMMARY:Spiagge e Fondali Puliti 2022 alla Spiaggia di Quartu - No al mare di plastica
DESCRIPTION:Appuntamento alla Spiaggia di Quartu Sant’Anna il 13 maggio per la raccolta dei rifiuti ai lati del percorso pedonale e in spiaggia sia in direzione Cagliari che in direzione Margine Rosso. \nVi aspettiamo! \nPer partecipare alla pulizia delle spiagge con noi iscriviti qui: https://volontariato.legambiente.it/eventi/spiagge-e-fondali-puliti
URL:https://youth4planet.legambiente.it/evento/spiagge-e-fondali-puliti-2022-alla-spiaggia-di-quartu-no-al-mare-di-plastica/
LOCATION:Cagliari – Spiaggia di Quartu Sant’Elena
ATTACH;FMTTYPE=image/png:https://youth4planet.legambiente.it/wp-content/uploads/2022/05/Spiagge-e-Fondali-puliti-a-Spiagga.png
ORGANIZER;CN="Carla%20Migoni":MAILTO:carlamigoni@gmail.com
END:VEVENT
END:VCALENDAR