BEGIN:VCALENDAR
VERSION:2.0
PRODID:-//Youth4planet di Legambiente - ECPv5.9.1//NONSGML v1.0//EN
CALSCALE:GREGORIAN
METHOD:PUBLISH
X-WR-CALNAME:Youth4planet di Legambiente
X-ORIGINAL-URL:https://youth4planet.legambiente.it
X-WR-CALDESC:Eventi per Youth4planet di Legambiente
BEGIN:VTIMEZONE
TZID:Europe/Rome
BEGIN:DAYLIGHT
TZOFFSETFROM:+0100
TZOFFSETTO:+0200
TZNAME:CEST
DTSTART:20220327T010000
END:DAYLIGHT
BEGIN:STANDARD
TZOFFSETFROM:+0200
TZOFFSETTO:+0100
TZNAME:CET
DTSTART:20221030T010000
END:STANDARD
END:VTIMEZONE
BEGIN:VEVENT
DTSTART;TZID=Europe/Rome:20220327T150000
DTEND;TZID=Europe/Rome:20220327T193000
DTSTAMP:20260423T155238
CREATED:20220318T112141Z
LAST-MODIFIED:20220318T131428Z
UID:1520-1648393200-1648409400@youth4planet.legambiente.it
SUMMARY:Salviamoci - Modalità Volontari ON
DESCRIPTION:“Salviamoci – Modalità volontari ON” è l’evento organizzato dai giovani partecipanti del progetto NEET – Nuove Energie Emergono dai Territori del Comune di Genova per avvicinare i giovani alle realtà che si dedicano al volontariato ambientale. \nDomenica 27 marzo ci troviamo a Genova\, presso Il Chiostro di Via di Santa Maria di Castello 33 \n📌Programma: \n15 – 16.30 Conferenza. Intervengono: \n\nValentino Affinita\, attivista per Terra! APS\nDaria Falconi\, content creator di @darialnaturale\nAnna Meda\, creatrice del progetto di Storie Sfuse\nRubina Pinto\, attivista per Legambiente Piemonte e Valle d’Aosta\n\n15 – 19.30 Stand associazioni\, tra cui Legambiente Liguria e Legambiente Giovani Energie \n16.30 – 18.30 Workshop UNI(TE) 4 PLANET sui temi dell’ambientalismo scientifico e del volontariato ambientale \n15 – 19:30 Installazione Artistica Partecipata\n18 – 19.30 Dj Set + Aperitivo \n✅Per partecipare alla conferenza e al workshop è necessario prenotarsi gratuitamente su: 👉https://www.eventbrite.com/e/biglietti-salviamoci-modalita-volontari-on-297270292447
URL:https://youth4planet.legambiente.it/evento/salviamoci-modalita-volontari-on/
LOCATION:GENOVA – Il Chiostro\, Via di Santa Maria di Castello 33\, Genova\, Italia
ATTACH;FMTTYPE=image/png:https://youth4planet.legambiente.it/wp-content/uploads/2022/03/Y4P-salviamoci-modalita-volontari-on.png
ORGANIZER;CN="Alice%20Micchini":MAILTO:a.micchini@legambienteliguria.org
END:VEVENT
END:VCALENDAR