BEGIN:VCALENDAR
VERSION:2.0
PRODID:-//Youth4planet di Legambiente - ECPv5.9.1//NONSGML v1.0//EN
CALSCALE:GREGORIAN
METHOD:PUBLISH
X-WR-CALNAME:Youth4planet di Legambiente
X-ORIGINAL-URL:https://youth4planet.legambiente.it
X-WR-CALDESC:Eventi per Youth4planet di Legambiente
BEGIN:VTIMEZONE
TZID:Europe/Rome
BEGIN:DAYLIGHT
TZOFFSETFROM:+0100
TZOFFSETTO:+0200
TZNAME:CEST
DTSTART:20220327T010000
END:DAYLIGHT
BEGIN:STANDARD
TZOFFSETFROM:+0200
TZOFFSETTO:+0100
TZNAME:CET
DTSTART:20221030T010000
END:STANDARD
END:VTIMEZONE
BEGIN:VEVENT
DTSTART;TZID=Europe/Rome:20220410T100000
DTEND;TZID=Europe/Rome:20220410T130000
DTSTAMP:20260421T102011
CREATED:20220407T102256Z
LAST-MODIFIED:20220407T103006Z
UID:1619-1649584800-1649595600@youth4planet.legambiente.it
SUMMARY:Riqualificazione a ritmo di musica - Le fontane del Re di Quisisana
DESCRIPTION:Il Circolo Legambiente Woodwardia\, in collaborazione con il Forum dei Giovani di Castellammare di Stabia e gli Amici della Filangieri\, hanno organizzato una giornata di pulizia e riqualificazione dei boschi di Quisisana. \nAd allietare questo momento di aggregazione ci saranno anche Viviana Ulisse e Sara Piccolo\, un duo folk che ha dato vita al progetto “In Folk We Trust”\, le cui note faranno da sfondo alla cornice magica delle Fontane del Re\, all’interno dei boschi di Quisisana. \nQuesta giornata è un’occasione speciale per riaccendere lo spirito di condivisione e dare la possibilità di valorizzare un territorio storico e importante come quello dei boschi di Quisisana. \nIl parco viene chiamato anche Le Fontane del Re per rendere omaggio alle opere di ampliamento e sistemazione che si effettuarono durante la seconda metà dell’Ottocento da Ferdinando IV. \nPer questo evento abbiamo coinvolto diverse associazioni giovanili per contribuire e rendere omaggio a questo posto incantato. \n 
URL:https://youth4planet.legambiente.it/evento/riqualificazione-a-ritmo-di-musica-le-fontane-del-re-di-quisisana/
LOCATION:Napoli – Boschi di Quisisana\, Castellammare di Stabia NA\, 80053\, Italia
ATTACH;FMTTYPE=image/png:https://youth4planet.legambiente.it/wp-content/uploads/2022/04/QUISISANA.png
ORGANIZER;CN="Gloria%20Del%20Giudice":MAILTO:g.delgiudice@legambiente.campania.it
END:VEVENT
END:VCALENDAR