BEGIN:VCALENDAR
VERSION:2.0
PRODID:-//Youth4planet di Legambiente - ECPv5.9.1//NONSGML v1.0//EN
CALSCALE:GREGORIAN
METHOD:PUBLISH
X-WR-CALNAME:Youth4planet di Legambiente
X-ORIGINAL-URL:https://youth4planet.legambiente.it
X-WR-CALDESC:Eventi per Youth4planet di Legambiente
BEGIN:VTIMEZONE
TZID:Europe/Rome
BEGIN:DAYLIGHT
TZOFFSETFROM:+0100
TZOFFSETTO:+0200
TZNAME:CEST
DTSTART:20220327T010000
END:DAYLIGHT
BEGIN:STANDARD
TZOFFSETFROM:+0200
TZOFFSETTO:+0100
TZNAME:CET
DTSTART:20221030T010000
END:STANDARD
END:VTIMEZONE
BEGIN:VEVENT
DTSTART;TZID=Europe/Rome:20221001T090000
DTEND;TZID=Europe/Rome:20221001T120000
DTSTAMP:20260422T180357
CREATED:20220920T145427Z
LAST-MODIFIED:20220920T145427Z
UID:2014-1664614800-1664625600@youth4planet.legambiente.it
SUMMARY:Puliamo l'Argine
DESCRIPTION:Una mattinata di pulizia del Lungargine del Piovego dai rifiuti\, organizzata da Fairtrade e Legambiente Padova. \nL’iniziativa\, aperta a tutti\, vuole rappresentare un gesto concreto con cui prendersi cura della città e tutelare dall’inquinamento un’importante area verde come l’argine del canale Piovego. \nL’appuntamento\, per tutti i volontari che vorranno unirsi\, è per sabato 1 ottobre alle ore 9.00 a Porta Portello\, al gazebo Fairtrade-Legambiente. \nVi aspettiamo con guanti\, sacchetti e pinze! \nPer partecipare è necessario iscriversi all’evento qui
URL:https://youth4planet.legambiente.it/evento/puliamo-largine/
LOCATION:Padova\, Porta Portello\, Padova\, Italia
ATTACH;FMTTYPE=image/png:https://youth4planet.legambiente.it/wp-content/uploads/2022/09/Puliamo-largie.png
ORGANIZER;CN="Fairtrade%20Italia":MAILTO:m.sferrazza@fairtrade.it
END:VEVENT
END:VCALENDAR