BEGIN:VCALENDAR
VERSION:2.0
PRODID:-//Youth4planet di Legambiente - ECPv5.9.1//NONSGML v1.0//EN
CALSCALE:GREGORIAN
METHOD:PUBLISH
X-WR-CALNAME:Youth4planet di Legambiente
X-ORIGINAL-URL:https://youth4planet.legambiente.it
X-WR-CALDESC:Eventi per Youth4planet di Legambiente
BEGIN:VTIMEZONE
TZID:Europe/Rome
BEGIN:DAYLIGHT
TZOFFSETFROM:+0100
TZOFFSETTO:+0200
TZNAME:CEST
DTSTART:20210328T010000
END:DAYLIGHT
BEGIN:STANDARD
TZOFFSETFROM:+0200
TZOFFSETTO:+0100
TZNAME:CET
DTSTART:20211031T010000
END:STANDARD
END:VTIMEZONE
BEGIN:VEVENT
DTSTART;TZID=Europe/Rome:20211009T150000
DTEND;TZID=Europe/Rome:20211009T173000
DTSTAMP:20260422T154109
CREATED:20210922T195423Z
LAST-MODIFIED:20210922T195423Z
UID:1048-1633791600-1633800600@youth4planet.legambiente.it
SUMMARY:Puliamo il mondo dai pregiudizi a Prato
DESCRIPTION:In accordo con il Comune di Prato che supporta l’iniziativa\, quest’anno il luogo interessato dall’azione di pulizia è uno dei più suggestivi e panoramici della città: il belvedere di Filettole.  \nPurtroppo\, ormai da temp\, gli scorci meravigliosi sulla città che si possono godere da qui fanno il paio con la grande quantità di rifiuti riversati negli uliveti sottostanti. Questa sporcizia è creata principalmente da una certa movida giovanile che non ne coglie il valore e la necessità di averne cura.  \nFortunatamente non tutta la gioventù dimostra di essere così insensibile e cieca al degrado e alla spreco di risorse ambientali. E’ per questo che l’edizione di PIM 2021 si rivolgere soprattutto ai ragazzi.  \nL’invito ad aderire numerosi è rivolto a tutta la cittadinanza\, ma soprattutto ai ragazzi degli istituti superiori cittadini. \nSarà quindi il momento di riscatto dai classici pregiudizi che vogliono le nuove generazioni insensibili e impermeabili a tutto\, quindi anche all’ambiente.  \nCompila il form di adesione ed unisciti a noi! \n 
URL:https://youth4planet.legambiente.it/evento/puliamo-il-mondo-dai-pregiudizi-a-prato/
LOCATION:PRATO – Piazzale della Chiesa di Filettole\, Via del Palco\, 263\, località Filettole\, Prato\, 59100
ATTACH;FMTTYPE=image/png:https://youth4planet.legambiente.it/wp-content/uploads/2021/09/prato.png
ORGANIZER;CN="Legambiente%20Prato":MAILTO:info@legambienteprato.it
END:VEVENT
END:VCALENDAR