BEGIN:VCALENDAR
VERSION:2.0
PRODID:-//Youth4planet di Legambiente - ECPv5.9.1//NONSGML v1.0//EN
CALSCALE:GREGORIAN
METHOD:PUBLISH
X-WR-CALNAME:Youth4planet di Legambiente
X-ORIGINAL-URL:https://youth4planet.legambiente.it
X-WR-CALDESC:Eventi per Youth4planet di Legambiente
BEGIN:VTIMEZONE
TZID:Europe/Rome
BEGIN:DAYLIGHT
TZOFFSETFROM:+0100
TZOFFSETTO:+0200
TZNAME:CEST
DTSTART:20220327T010000
END:DAYLIGHT
BEGIN:STANDARD
TZOFFSETFROM:+0200
TZOFFSETTO:+0100
TZNAME:CET
DTSTART:20221030T010000
END:STANDARD
END:VTIMEZONE
BEGIN:VEVENT
DTSTART;TZID=Europe/Rome:20220923T100000
DTEND;TZID=Europe/Rome:20220923T120000
DTSTAMP:20260422T135254
CREATED:20220919T082933Z
LAST-MODIFIED:20220919T082933Z
UID:1992-1663927200-1663934400@youth4planet.legambiente.it
SUMMARY:Puliamo il Mondo - Campobasso
DESCRIPTION:Vogliamo fare davvero qualcosa per aiutare il Pianeta? 💪Partiamo dai piccoli gesti! \n📍Il parco verde di Via San Giovanni a Campobasso ha bisogno del nostro intervento! \n🗓️Dedicheremo la nostra giornata alla pulizia e la rimozione dei rifiuti in quest’area in occasione del Global Strike del 23 settembre! \nÈ tempo di agire adesso! Unisciti a noi \nLink di iscrizione all’evento ➡️Eugenio Cirese
URL:https://youth4planet.legambiente.it/evento/puliamo-il-mondo-campobasso/
LOCATION:Campobasso\, Università del Molise\, Campobasso\, Italia
ATTACH;FMTTYPE=image/png:https://youth4planet.legambiente.it/wp-content/uploads/2022/09/Puliamo-il-Mondo-a-Campobasso.png
ORGANIZER;CN="Eugenio%20Cirese":MAILTO:andreademarco29@gmail.com
END:VEVENT
END:VCALENDAR