BEGIN:VCALENDAR
VERSION:2.0
PRODID:-//Youth4planet di Legambiente - ECPv5.9.1//NONSGML v1.0//EN
CALSCALE:GREGORIAN
METHOD:PUBLISH
X-WR-CALNAME:Youth4planet di Legambiente
X-ORIGINAL-URL:https://youth4planet.legambiente.it
X-WR-CALDESC:Eventi per Youth4planet di Legambiente
BEGIN:VTIMEZONE
TZID:Europe/Rome
BEGIN:DAYLIGHT
TZOFFSETFROM:+0100
TZOFFSETTO:+0200
TZNAME:CEST
DTSTART:20220327T010000
END:DAYLIGHT
BEGIN:STANDARD
TZOFFSETFROM:+0200
TZOFFSETTO:+0100
TZNAME:CET
DTSTART:20221030T010000
END:STANDARD
END:VTIMEZONE
BEGIN:VEVENT
DTSTART;TZID=Europe/Rome:20221001T100000
DTEND;TZID=Europe/Rome:20221001T130000
DTSTAMP:20260422T222957
CREATED:20220928T170738Z
LAST-MODIFIED:20220928T170738Z
UID:2052-1664618400-1664629200@youth4planet.legambiente.it
SUMMARY:Puliamo il mondo al Parco della Pescaia
DESCRIPTION:Per un clima di pace è lo slogan che accompagna la trentesima di Puliamo il mondo e\, come ogni anno\, lo mettiamo in atto prendendoci cura del nostro territorio. A partire dalle ore 10.00\, con tante realtà associazionistiche e studentesche del territorio\, restituiremo bellezza al Parco della Pescaia. Dopo l’iniziativa\, pranzo a sacco e tante chiacchiere! \nUnisciti a noi e #actbeforeyoupost! \nPer partecipare con noi\, clicca sul link \n 
URL:https://youth4planet.legambiente.it/evento/puliamo-il-mondo-al-parco-della-pescaia/
LOCATION:Perugia – Parco della Pescaia\, Via XX Settembre\, Perugia\, Italia
ATTACH;FMTTYPE=image/png:https://youth4planet.legambiente.it/wp-content/uploads/2022/09/Puliamo-il-mondo-al-Parco-della-Pescaia.png
ORGANIZER;CN="Martina%20Palmisano":MAILTO:m.palmisano@legambiente.it
END:VEVENT
END:VCALENDAR