BEGIN:VCALENDAR
VERSION:2.0
PRODID:-//Youth4planet di Legambiente - ECPv5.9.1//NONSGML v1.0//EN
CALSCALE:GREGORIAN
METHOD:PUBLISH
X-WR-CALNAME:Youth4planet di Legambiente
X-ORIGINAL-URL:https://youth4planet.legambiente.it
X-WR-CALDESC:Eventi per Youth4planet di Legambiente
BEGIN:VTIMEZONE
TZID:Europe/Rome
BEGIN:DAYLIGHT
TZOFFSETFROM:+0100
TZOFFSETTO:+0200
TZNAME:CEST
DTSTART:20220327T010000
END:DAYLIGHT
BEGIN:STANDARD
TZOFFSETFROM:+0200
TZOFFSETTO:+0100
TZNAME:CET
DTSTART:20221030T010000
END:STANDARD
END:VTIMEZONE
BEGIN:VEVENT
DTSTART;TZID=Europe/Rome:20221001T100000
DTEND;TZID=Europe/Rome:20221001T130000
DTSTAMP:20260422T205832
CREATED:20220926T100903Z
LAST-MODIFIED:20220926T100903Z
UID:2036-1664618400-1664629200@youth4planet.legambiente.it
SUMMARY:Puliamo il Mondo a Villa Ada
DESCRIPTION:Siamo un gruppo misto di ragazz* universitar* e famiglie che insieme\, sabato 1 ottobre\, ci impegneremo nella pulizia della zona bassa di Villa Ada. \nL’evento vede numerose associazioni del territorio coinvolte come il circolo Mondi Possibili\, Tavola Rotonda ed i Seeds. Ti aspettiamo! 🙂 \nPer registrarsi all’evento clicca qui \n  \n 
URL:https://youth4planet.legambiente.it/evento/puliamo-il-mondo-a-villa-ada/
LOCATION:Roma\, Via di Ponte Salario 30\, Roma\, Italia
ATTACH;FMTTYPE=image/png:https://youth4planet.legambiente.it/wp-content/uploads/2022/09/pULIAMO-IL-MONDO-A-VILLA-ASA.png
ORGANIZER;CN="Valerio%20Mezzanotte":MAILTO:circologemme.legambiente@gmail.com
END:VEVENT
END:VCALENDAR