BEGIN:VCALENDAR
VERSION:2.0
PRODID:-//Youth4planet di Legambiente - ECPv5.9.1//NONSGML v1.0//EN
CALSCALE:GREGORIAN
METHOD:PUBLISH
X-WR-CALNAME:Youth4planet di Legambiente
X-ORIGINAL-URL:https://youth4planet.legambiente.it
X-WR-CALDESC:Eventi per Youth4planet di Legambiente
BEGIN:VTIMEZONE
TZID:Europe/Rome
BEGIN:DAYLIGHT
TZOFFSETFROM:+0100
TZOFFSETTO:+0200
TZNAME:CEST
DTSTART:20220327T010000
END:DAYLIGHT
BEGIN:STANDARD
TZOFFSETFROM:+0200
TZOFFSETTO:+0100
TZNAME:CET
DTSTART:20221030T010000
END:STANDARD
END:VTIMEZONE
BEGIN:VEVENT
DTSTART;TZID=Europe/Rome:20221001T090000
DTEND;TZID=Europe/Rome:20221001T120000
DTSTAMP:20260422T192452
CREATED:20220920T145824Z
LAST-MODIFIED:20220920T145824Z
UID:2019-1664614800-1664625600@youth4planet.legambiente.it
SUMMARY:Puliamo il Mondo a Treviso
DESCRIPTION:All’interno del FESTIVAL 4 PASSI \, quattro passi alla scoperta dei corsi d’acqua confinati nei quartieri\, con guanti e sacchi per conoscere e prendersi cura di noi\, della città e del Mondo.\na cura di Legambiente Treviso \nLink per iscrizione all’evento
URL:https://youth4planet.legambiente.it/evento/puliamo-il-mondo-a-treviso/
LOCATION:Treviso\, Viale Fratelli Cairoli 153\, Treviso\, Italia
ATTACH;FMTTYPE=image/png:https://youth4planet.legambiente.it/wp-content/uploads/2022/09/Puliamo-il-Mondo-a-Treviso.png
ORGANIZER;CN="Francesco%20Tosato":MAILTO:f.tosato@legambienteveneto.it
END:VEVENT
END:VCALENDAR