BEGIN:VCALENDAR
VERSION:2.0
PRODID:-//Youth4planet di Legambiente - ECPv5.9.1//NONSGML v1.0//EN
CALSCALE:GREGORIAN
METHOD:PUBLISH
X-WR-CALNAME:Youth4planet di Legambiente
X-ORIGINAL-URL:https://youth4planet.legambiente.it
X-WR-CALDESC:Eventi per Youth4planet di Legambiente
BEGIN:VTIMEZONE
TZID:Europe/Rome
BEGIN:DAYLIGHT
TZOFFSETFROM:+0100
TZOFFSETTO:+0200
TZNAME:CEST
DTSTART:20210328T010000
END:DAYLIGHT
BEGIN:STANDARD
TZOFFSETFROM:+0200
TZOFFSETTO:+0100
TZNAME:CET
DTSTART:20211031T010000
END:STANDARD
END:VTIMEZONE
BEGIN:VEVENT
DTSTART;TZID=Europe/Rome:20211010T150000
DTEND;TZID=Europe/Rome:20211010T170000
DTSTAMP:20260422T172145
CREATED:20210922T085110Z
LAST-MODIFIED:20210923T180058Z
UID:1005-1633878000-1633885200@youth4planet.legambiente.it
SUMMARY:Puliamo il mondo a Calice Ligure
DESCRIPTION:Partecipa anche tu ad un pomeriggio di raccolta dei rifiuti dispersi in natura!  \nSaremo in compagnia deic i giovani del progetto Sfuso Diffuso e le associazioni del territorio. \n 
URL:https://youth4planet.legambiente.it/evento/puliamo-il-mondo-a-calice-ligure/
LOCATION:Calice Ligure (SV) – Comune\, Piazza Massa\, 15\, Savona\, 17020\, Italia
ATTACH;FMTTYPE=image/png:https://youth4planet.legambiente.it/wp-content/uploads/2021/09/savona.png
ORGANIZER;CN="Federico%20Borromeo":MAILTO:f.borromeo@legambienteliguria.org
END:VEVENT
END:VCALENDAR