BEGIN:VCALENDAR
VERSION:2.0
PRODID:-//Youth4planet di Legambiente - ECPv5.9.1//NONSGML v1.0//EN
CALSCALE:GREGORIAN
METHOD:PUBLISH
X-WR-CALNAME:Youth4planet di Legambiente
X-ORIGINAL-URL:https://youth4planet.legambiente.it
X-WR-CALDESC:Eventi per Youth4planet di Legambiente
BEGIN:VTIMEZONE
TZID:Europe/Rome
BEGIN:DAYLIGHT
TZOFFSETFROM:+0100
TZOFFSETTO:+0200
TZNAME:CEST
DTSTART:20220327T010000
END:DAYLIGHT
BEGIN:STANDARD
TZOFFSETFROM:+0200
TZOFFSETTO:+0100
TZNAME:CET
DTSTART:20221030T010000
END:STANDARD
END:VTIMEZONE
BEGIN:VEVENT
DTSTART;TZID=Europe/Rome:20220501T080000
DTEND;TZID=Europe/Rome:20220501T130000
DTSTAMP:20260420T194207
CREATED:20220427T095352Z
LAST-MODIFIED:20220427T100129Z
UID:1699-1651392000-1651410000@youth4planet.legambiente.it
SUMMARY:Primo maggio: biciclettata green con Legambiente Salve
DESCRIPTION:🌞Torna la Biciclettata Green di Legambiente Salve!\n📌Ritrovo alle 8:15 in Piazza della Repubblica a Salve (LE) per ultime iscrizioni e partenza 8:45.\n👣L’evento è adatto anche a* bambin* a partire dai 6 anni. \nDopo questi due anni di pandemia\, in molti si sono ritrovati a immaginare per se stessi e per i propri cari una vita diversa: a contatto con la Natura\, impegnati INSIEME in attività che possono far prosperare sé stessi\, la comunità e l’ambiente.\nCondividere\, all’aria aperta\, passeggiare e pedalare\, visitando i nostri magnifici sentieri di campagna è già la realizzazione di questo sogno di una vita diversa: più salutare\, più serena e più naturale. \n Solo coloro che sono abbastanza folli da pensare di cambiare il mondo\, lo cambiano davvero. \nSteve Jobs \nPer info e iscrizioni\, contatta i seguenti numeri: \nGiovanni: 3476651520\nNicola: 3384391100\nFelice: 3498401049
URL:https://youth4planet.legambiente.it/evento/primo-maggio-biciclettata-green-con-legambiente-salve/
LOCATION:SALVE (LE)\, Piazza della Repubblica\, Salve\, Italia
ATTACH;FMTTYPE=image/png:https://youth4planet.legambiente.it/wp-content/uploads/2022/04/Biciclettata-green.png
ORGANIZER;CN="Cristina%20Monterisi":MAILTO:volontariato.legambientepuglia@gmail.com
END:VEVENT
END:VCALENDAR