BEGIN:VCALENDAR
VERSION:2.0
PRODID:-//Youth4planet di Legambiente - ECPv5.9.1//NONSGML v1.0//EN
CALSCALE:GREGORIAN
METHOD:PUBLISH
X-WR-CALNAME:Youth4planet di Legambiente
X-ORIGINAL-URL:https://youth4planet.legambiente.it
X-WR-CALDESC:Eventi per Youth4planet di Legambiente
BEGIN:VTIMEZONE
TZID:Europe/Rome
BEGIN:DAYLIGHT
TZOFFSETFROM:+0100
TZOFFSETTO:+0200
TZNAME:CEST
DTSTART:20210328T010000
END:DAYLIGHT
BEGIN:STANDARD
TZOFFSETFROM:+0200
TZOFFSETTO:+0100
TZNAME:CET
DTSTART:20211031T010000
END:STANDARD
END:VTIMEZONE
BEGIN:VEVENT
DTSTART;TZID=Europe/Rome:20210928T080000
DTEND;TZID=Europe/Rome:20211002T233000
DTSTAMP:20260423T042729
CREATED:20210922T135839Z
LAST-MODIFIED:20210928T142448Z
UID:1028-1632816000-1633217400@youth4planet.legambiente.it
SUMMARY:Pre-COP a Milano
DESCRIPTION:Prepariamoci alla Conferenza delle Nazioni Unite sull’emergenza climatica del 2021! \nManca poco alla 26^ edizione della COP26 che si svolgerà in Scozia: appuntamento cruciale per la lotta contro il cambiamento climatico. Per questo motivo ti invitiamo a Milano\, insieme ai tantissimi giovani volontari e attivisti di Legambiente\, per occuparci della questione\, sviluppare insieme idee e progetti per il nostro futuro e quello dell’ambiente. \nIn occasione quindi degli appuntamenti internazionali di YouthCOP e PreCOP di Milano\, e degli eventi preparatori della COP26 di Glasgow\, molte associazioni che si occupano di emergenza climatica hanno dato vita alla rete “Climate Open Platform”.  \nIn contemporanea a questi eventi\, viene inoltre organizzato l’Eco Social Forum\, una settimana di dibattiti e iniziative per parlare di crisi climatica e sociale a Milano.  \n“Diritti umani\, acqua\, cibo e risorse\, lavoro ed energia\, saperi\, economia e finanza\, territori\, città e comunità”. Questi sono alcuni dei temi principali dell’Eco Social Forum che si svolgerà dal 28 settembre al 2 ottobre 2021. \nUna serie di iniziative ed appuntamenti importantissimi per la salvaguardia dell’ambiente ma soprattutto per il futuro di tutti i cittadini. \nTantissimi giovani\, attivisti e volontari di Legambiente\, insieme ad altre organizzazioni nazionali e mondiali\, si riuniranno per partecipare attivamente agli eventi. \nE’ fondamentale in queste giornate far sentire la propria voce sulla giustizia climatica e non solo. \n  \nEcco il programma di Legambiente all’interno dell’Eco Social Forum di Milano:\n29 settembre MATTINA \n\nh 10 – From Soil to Fork. Dal suolo al piatto – Legambiente [Cascina nascosta] >> clicca qui per iscriverti al workshop!\n\n30 settembre POMERIGGIO \n\nh 16 – I migranti ambientali. L’altra faccia della crisi climatica. Presentazione del dossier 2021 di Legambiente e confronto sul percorso comune verso la giustizia climatica. – Legambiente [Cascina nascosta] >> clicca qui per iscriverti al workshop!\n\n  \nInoltre\,  l’1 e il 2 ottobre  saremo presenti alle manifestazioni conclusive in programma.  \nScendi in piazza con noi: \n\n1 ottobre 2021 -h 9:30 Student Climate Strike\, largo Cairoli Milano\n2 ottobre 2021 -h 15:30 Global March for Climate Justice\, largo Cairoli Milano
URL:https://youth4planet.legambiente.it/evento/pre-cop-a-milano/
LOCATION:MILANO\, MI\, Italia
ATTACH;FMTTYPE=image/png:https://youth4planet.legambiente.it/wp-content/uploads/2021/09/precop.png
ORGANIZER;CN="Caterina%20Benvenuto":MAILTO:caterina.benvenuto@legambientelombardia.it
END:VEVENT
END:VCALENDAR