BEGIN:VCALENDAR
VERSION:2.0
PRODID:-//Youth4planet di Legambiente - ECPv5.9.1//NONSGML v1.0//EN
CALSCALE:GREGORIAN
METHOD:PUBLISH
X-WR-CALNAME:Youth4planet di Legambiente
X-ORIGINAL-URL:https://youth4planet.legambiente.it
X-WR-CALDESC:Eventi per Youth4planet di Legambiente
BEGIN:VTIMEZONE
TZID:Europe/Rome
BEGIN:DAYLIGHT
TZOFFSETFROM:+0100
TZOFFSETTO:+0200
TZNAME:CEST
DTSTART:20210328T010000
END:DAYLIGHT
BEGIN:STANDARD
TZOFFSETFROM:+0200
TZOFFSETTO:+0100
TZNAME:CET
DTSTART:20211031T010000
END:STANDARD
END:VTIMEZONE
BEGIN:VEVENT
DTSTART;TZID=Europe/Rome:20211001T150000
DTEND;TZID=Europe/Rome:20211001T170000
DTSTAMP:20260422T234135
CREATED:20210928T084333Z
LAST-MODIFIED:20210928T085119Z
UID:1091-1633100400-1633107600@youth4planet.legambiente.it
SUMMARY:Non si respira un bel clima - Flash Mob
DESCRIPTION:“Non si respira un bel clima”  è il flash mob di Legambiente e Clean Cities Campaign che si svolgerà a Milano venerdì 1 ottobre\, per richiamare l’attenzione sul legame tra emissioni climalteranti ed inquinanti in città. \nIl flash mob in Parco Sempione vuole sottolineare lo stretto legame tra emissioni climalternati ed inquinanti in città\, le loro pesanti conseguenze sul clima e sulla vita dei cittadini. Soprattutto\, l’azione punta a sollecitare le autorità nazionali e regionali a mettere in campo le mancate misure risolutive per la lotta alle emissioni di CO2 e alle emissioni inquinanti\, che rendono l’Italia uno dei paesi europei più esposti con 50 mila decessi all’anno solo nelle città più inquinate. \nGli attivisti di Legambiente con un’iperbole\, indossando maschere antigas\, ci regalano oggi un’immagine di come potrebbe essere la quotidianità milanese tra qualche anno se non ci sarà una svolta immediata.  \nPerché ormai è chiaro che: ” le chiacchiere stanno a zero\, ma le emissioni no!“ \n 
URL:https://youth4planet.legambiente.it/evento/non-si-respira-un-bel-clima-flash-mob/
LOCATION:MILANO – Arco della Pace\, Piazza Sempione\, 20154\, Italia
ATTACH;FMTTYPE=image/png:https://youth4planet.legambiente.it/wp-content/uploads/2021/09/Flash-Mob-MI.png
ORGANIZER;CN="Caterina%20Benvenuto":MAILTO:caterina.benvenuto@legambientelombardia.it
END:VEVENT
END:VCALENDAR