BEGIN:VCALENDAR
VERSION:2.0
PRODID:-//Youth4planet di Legambiente - ECPv5.9.1//NONSGML v1.0//EN
CALSCALE:GREGORIAN
METHOD:PUBLISH
X-WR-CALNAME:Youth4planet di Legambiente
X-ORIGINAL-URL:https://youth4planet.legambiente.it
X-WR-CALDESC:Eventi per Youth4planet di Legambiente
BEGIN:VTIMEZONE
TZID:Europe/Rome
BEGIN:DAYLIGHT
TZOFFSETFROM:+0100
TZOFFSETTO:+0200
TZNAME:CEST
DTSTART:20220327T010000
END:DAYLIGHT
BEGIN:STANDARD
TZOFFSETFROM:+0200
TZOFFSETTO:+0100
TZNAME:CET
DTSTART:20221030T010000
END:STANDARD
END:VTIMEZONE
BEGIN:VEVENT
DTSTART;TZID=Europe/Rome:20220420T203000
DTEND;TZID=Europe/Rome:20220420T223000
DTSTAMP:20260421T070746
CREATED:20220412T161048Z
LAST-MODIFIED:20220412T161048Z
UID:1646-1650486600-1650493800@youth4planet.legambiente.it
SUMMARY:Naturlich-Il cinema tedesco e la sostenibilità ambientale
DESCRIPTION:“Siete rimasti senza scuse\, e noi siamo rimasti senza tempo”. \nL’invettiva di Greta Thunberg contro i potenti della Terra fotografa alla perfezione una società ancora in cerca di un nuovo rapporto con l’ambiente e soprattutto di nuovi valori che gli diano sostanza. \nSu questi temi si interroga la rassegna Naturlich-Il cinema tedesco e la sostenibilità ambientale\, promosso dall’istituto Tedesco Perugia insieme al Goethe-Institut e all’Ateneo perugino che ci permetterà di scoprire il punto di vista delle persone che hanno portato avanti piccole e grandi battaglie\, in nome della sostenibilità ambientale. \nLegambiente sarà presente alla proiezione del film Wackersdorf\, che racconta un importante momento del movimento antinucleare in Germania per confrontarci insieme su questo esempio di appello ai valori della democrazia e dell’impegno civile\, rilevante oggi come allora. \nLa proiezione sarà in lingua originale con sottotitoli in italiano e l’ingresso è libero. \nUnisciti a noi e #actbeforeyoupost!
URL:https://youth4planet.legambiente.it/evento/naturlich-il-cinema-tedesco-e-la-sostenibilita-ambientale/
LOCATION:Perugia – Istituto Tedesco Perugia\, Piazza Raffaello 11\, Perugia\, Italia
ATTACH;FMTTYPE=image/png:https://youth4planet.legambiente.it/wp-content/uploads/2022/04/Copertine-Evento-1.png
ORGANIZER;CN="Martina%20Palmisano":MAILTO:m.palmisano@legambiente.it
END:VEVENT
END:VCALENDAR