BEGIN:VCALENDAR
VERSION:2.0
PRODID:-//Youth4planet di Legambiente - ECPv5.9.1//NONSGML v1.0//EN
CALSCALE:GREGORIAN
METHOD:PUBLISH
X-WR-CALNAME:Youth4planet di Legambiente
X-ORIGINAL-URL:https://youth4planet.legambiente.it
X-WR-CALDESC:Eventi per Youth4planet di Legambiente
BEGIN:VTIMEZONE
TZID:Europe/Rome
BEGIN:DAYLIGHT
TZOFFSETFROM:+0100
TZOFFSETTO:+0200
TZNAME:CEST
DTSTART:20210328T010000
END:DAYLIGHT
BEGIN:STANDARD
TZOFFSETFROM:+0200
TZOFFSETTO:+0100
TZNAME:CET
DTSTART:20211031T010000
END:STANDARD
END:VTIMEZONE
BEGIN:VEVENT
DTSTART;TZID=Europe/Rome:20210930T160000
DTEND;TZID=Europe/Rome:20210930T180000
DTSTAMP:20260423T024919
CREATED:20210923T195057Z
LAST-MODIFIED:20210923T195057Z
UID:1076-1633017600-1633024800@youth4planet.legambiente.it
SUMMARY:I Migranti Ambientali - L’altra faccia della crisi climatica.
DESCRIPTION:Presentazione del dossier 2021 di Legambiente sui migranti ambientali e confronto sul percorso comune verso la giustizia climatica. \nGreen Pass obbligatorio \n 
URL:https://youth4planet.legambiente.it/evento/i-migranti-ambientali-laltra-faccia-della-crisi-climatica/
LOCATION:MILANO – Cascina Nascosta\, Parco Sempione (alle spalle della Torre Branca)\, Italia
ATTACH;FMTTYPE=image/png:https://youth4planet.legambiente.it/wp-content/uploads/2021/09/migranti-ambientali.png
ORGANIZER;CN="Caterina%20Benvenuto":MAILTO:caterina.benvenuto@legambientelombardia.it
END:VEVENT
END:VCALENDAR