BEGIN:VCALENDAR
VERSION:2.0
PRODID:-//Youth4planet di Legambiente - ECPv5.9.1//NONSGML v1.0//EN
CALSCALE:GREGORIAN
METHOD:PUBLISH
X-WR-CALNAME:Youth4planet di Legambiente
X-ORIGINAL-URL:https://youth4planet.legambiente.it
X-WR-CALDESC:Eventi per Youth4planet di Legambiente
BEGIN:VTIMEZONE
TZID:Europe/Rome
BEGIN:DAYLIGHT
TZOFFSETFROM:+0100
TZOFFSETTO:+0200
TZNAME:CEST
DTSTART:20220327T010000
END:DAYLIGHT
BEGIN:STANDARD
TZOFFSETFROM:+0200
TZOFFSETTO:+0100
TZNAME:CET
DTSTART:20221030T010000
END:STANDARD
END:VTIMEZONE
BEGIN:VEVENT
DTSTART;TZID=Europe/Rome:20220507T090000
DTEND;TZID=Europe/Rome:20220507T130000
DTSTAMP:20260420T181023
CREATED:20220419T080252Z
LAST-MODIFIED:20220419T080252Z
UID:1670-1651914000-1651928400@youth4planet.legambiente.it
SUMMARY:Giornata ecologica del Barro
DESCRIPTION:La giornata ecologica del barro è un’iniziativa dedicata alla salvaguardia delle diverse aree del Parco\, in compagnia di tutte le associazioni del territorio. \nInsieme ci prenderemo cura di alcuni sentieri e zone adiacenti all’Eremo del Monte Barro\, sede di Legambiente Lecco. \nAl termine della giornata organizziamo un pranzo tutti insieme all’interno dell’eco-ostello \nSe hai a cuore l’ambiente\, unisciti a noi!
URL:https://youth4planet.legambiente.it/evento/giornata-ecologica-del-barro/
LOCATION:GALBIATE (LC) Parco Regionale del Monte Barro\, Galbiate\, 23851
ATTACH;FMTTYPE=image/png:https://youth4planet.legambiente.it/wp-content/uploads/2022/04/Copertine-Evento-2.png
ORGANIZER;CN="Giulia%20Apolloni":MAILTO:g.apolloni@legambientelecco.it
END:VEVENT
END:VCALENDAR