BEGIN:VCALENDAR
VERSION:2.0
PRODID:-//Youth4planet di Legambiente - ECPv5.9.1//NONSGML v1.0//EN
CALSCALE:GREGORIAN
METHOD:PUBLISH
X-WR-CALNAME:Youth4planet di Legambiente
X-ORIGINAL-URL:https://youth4planet.legambiente.it
X-WR-CALDESC:Eventi per Youth4planet di Legambiente
BEGIN:VTIMEZONE
TZID:Europe/Rome
BEGIN:DAYLIGHT
TZOFFSETFROM:+0100
TZOFFSETTO:+0200
TZNAME:CEST
DTSTART:20210328T010000
END:DAYLIGHT
BEGIN:STANDARD
TZOFFSETFROM:+0200
TZOFFSETTO:+0100
TZNAME:CET
DTSTART:20211031T010000
END:STANDARD
END:VTIMEZONE
BEGIN:VEVENT
DTSTART;TZID=Europe/Rome:20210929T100000
DTEND;TZID=Europe/Rome:20210929T123000
DTSTAMP:20260423T025733
CREATED:20210923T195753Z
LAST-MODIFIED:20210923T195839Z
UID:1081-1632909600-1632918600@youth4planet.legambiente.it
SUMMARY:From Soil to Fork. Dal suolo al piatto.
DESCRIPTION:Una sola Terra per nutrire 10 miliardi di persone: i sistemi agroalimentari e la sfida della transizione. Per un uso sostenibile e giusto delle terre coltivate. \n  \nProgramma della mattinata: \n10.00 -10.15 Introduzione di Legambiente \n10.15 – 11.30 Discussione con gli invitati e i partecipanti sul tema del legame tra politiche del cibo\, suolo e cambiamenti climatici \n11.30 -11.50  Presentazione del manifesto per il suolo  \n11.50 -12.00  Scelte sostenibili\, tra cucina e ristorazione – a cura di Cascina Nascosta \n12.00 -12.30  Spuntino sostenibile offerto dal progetto Soil4life \n  \n  \nAltre info: Green Pass obbligatorio.  \nL’evento è organizzato all’interno del progetto Soil4LIfe e rientra nelle iniziative dell’Eco Social Forum. \n 
URL:https://youth4planet.legambiente.it/evento/from-soil-to-fork-dal-suolo-al-piatto/
LOCATION:MILANO – Cascina Nascosta\, Parco Sempione (alle spalle della Torre Branca)\, Italia
ATTACH;FMTTYPE=image/png:https://youth4planet.legambiente.it/wp-content/uploads/2021/09/ecosocialforum.png
ORGANIZER;CN="Caterina%20Benvenuto":MAILTO:caterina.benvenuto@legambientelombardia.it
END:VEVENT
END:VCALENDAR