BEGIN:VCALENDAR
VERSION:2.0
PRODID:-//Youth4planet di Legambiente - ECPv5.9.1//NONSGML v1.0//EN
CALSCALE:GREGORIAN
METHOD:PUBLISH
X-WR-CALNAME:Youth4planet di Legambiente
X-ORIGINAL-URL:https://youth4planet.legambiente.it
X-WR-CALDESC:Eventi per Youth4planet di Legambiente
BEGIN:VTIMEZONE
TZID:Europe/Rome
BEGIN:DAYLIGHT
TZOFFSETFROM:+0100
TZOFFSETTO:+0200
TZNAME:CEST
DTSTART:20210328T010000
END:DAYLIGHT
BEGIN:STANDARD
TZOFFSETFROM:+0200
TZOFFSETTO:+0100
TZNAME:CET
DTSTART:20211031T010000
END:STANDARD
END:VTIMEZONE
BEGIN:VEVENT
DTSTART;TZID=Europe/Rome:20211120T100000
DTEND;TZID=Europe/Rome:20211120T130000
DTSTAMP:20260423T114224
CREATED:20211116T154444Z
LAST-MODIFIED:20211116T160442Z
UID:1217-1637402400-1637413200@youth4planet.legambiente.it
SUMMARY:Festa dell'Albero a Casa Gavoglio
DESCRIPTION:Per festeggiare insieme la Festa dell’Albero\, il circolo Legambiente “Giovani Energie” di Genova organizza una mattinata di cura del verde presso il cortile di Casa Gavoglio\, dove si svolgeranno un laboratorio di botanica insieme agli educatori di Legambienet e un’esperienza teatrale sulla percezione dell’albero.\n\nAppuntamento a Casa Gavoglio\, via del Lagaccio 41\, Genova dalle ore 10.00.\n\n\n\n  \n\n\n\n Partecipa\n\n\n\n  \n 
URL:https://youth4planet.legambiente.it/evento/festa-dellalbero-a-casa-gavoglio/
LOCATION:Casa Gavoglio\, via del Lagaccio 41\, Genova\, Italia
ATTACH;FMTTYPE=image/png:https://youth4planet.legambiente.it/wp-content/uploads/2021/11/genova.png
ORGANIZER;CN="Circolo%20Legambiente%20Giovani%20Energie":MAILTO:info@legambientege.org
END:VEVENT
END:VCALENDAR