BEGIN:VCALENDAR
VERSION:2.0
PRODID:-//Youth4planet di Legambiente - ECPv5.9.1//NONSGML v1.0//EN
CALSCALE:GREGORIAN
METHOD:PUBLISH
X-WR-CALNAME:Youth4planet di Legambiente
X-ORIGINAL-URL:https://youth4planet.legambiente.it
X-WR-CALDESC:Eventi per Youth4planet di Legambiente
BEGIN:VTIMEZONE
TZID:Europe/Rome
BEGIN:DAYLIGHT
TZOFFSETFROM:+0100
TZOFFSETTO:+0200
TZNAME:CEST
DTSTART:20210328T010000
END:DAYLIGHT
BEGIN:STANDARD
TZOFFSETFROM:+0200
TZOFFSETTO:+0100
TZNAME:CET
DTSTART:20211031T010000
END:STANDARD
END:VTIMEZONE
BEGIN:VEVENT
DTSTART;VALUE=DATE:20211120
DTEND;VALUE=DATE:20211121
DTSTAMP:20260423T101117
CREATED:20211117T140606Z
LAST-MODIFIED:20211117T141014Z
UID:1265-1637366400-1637452799@youth4planet.legambiente.it
SUMMARY:Festa dell'Albero a Campobasso
DESCRIPTION:Il Circolo Legambiente “Eugenio Cirese” di Legambiente prosegue la sua campagna di feste dell’albero legate all’inclusione di rifugiati e migranti presenti sul territorio Un’occasione di incontro e di confronto sull’essere cittadini oggi. Appuntamento presso l’ ex Hotel “Il Baronetto” in contrada Tappino. \n  \n\n\n\n Partecipa\n\n\n\n 
URL:https://youth4planet.legambiente.it/evento/festa-dellalbero-a-campobasso/
LOCATION:Ex Hotel “Il Baronetto”\, Contrada Tappino\, Campobasso\, Italia
ATTACH;FMTTYPE=image/png:https://youth4planet.legambiente.it/wp-content/uploads/2021/11/campobasso.png
ORGANIZER;CN="CIRCOLO%20%E2%80%9CEUGENIO%20CIRESE%22":MAILTO:paolofagliarone@yahoo.it
END:VEVENT
END:VCALENDAR