BEGIN:VCALENDAR
VERSION:2.0
PRODID:-//Youth4planet di Legambiente - ECPv5.9.1//NONSGML v1.0//EN
CALSCALE:GREGORIAN
METHOD:PUBLISH
X-WR-CALNAME:Youth4planet di Legambiente
X-ORIGINAL-URL:https://youth4planet.legambiente.it
X-WR-CALDESC:Eventi per Youth4planet di Legambiente
BEGIN:VTIMEZONE
TZID:Europe/Rome
BEGIN:DAYLIGHT
TZOFFSETFROM:+0100
TZOFFSETTO:+0200
TZNAME:CEST
DTSTART:20220327T010000
END:DAYLIGHT
BEGIN:STANDARD
TZOFFSETFROM:+0200
TZOFFSETTO:+0100
TZNAME:CET
DTSTART:20221030T010000
END:STANDARD
END:VTIMEZONE
BEGIN:VEVENT
DTSTART;TZID=Europe/Rome:20220929T160000
DTEND;TZID=Europe/Rome:20220929T180000
DTSTAMP:20260422T151343
CREATED:20220926T151125Z
LAST-MODIFIED:20220926T151125Z
UID:2041-1664467200-1664474400@youth4planet.legambiente.it
SUMMARY:Climate Justice - workshop
DESCRIPTION:Il cambiamento climatico non rappresenta soltanto una questione di natura ambientale\, ma anche etica\, politica e sociale: spesso sono le categorie più povere ad essere più esposte agli effetti disastrosi dei mutamenti del clima\, così come le future generazioni lo sono di più delle precedenti.\nDa qui\, il concetto di (in)giustizia climatica. \nCome possiamo combatterla?\nAttraverso questo workshop stimoleremo la conoscenza sul tema in tutta la sua complessità e immagineremo azioni e strategie che possano contrastarla; lo faremo attraverso metodologie non formali e partecipative che richiederanno il contributo attivo di tutti e tutte. \nIngresso gratuito. \nRegistrati qui
URL:https://youth4planet.legambiente.it/evento/climate-justice-workshop/
LOCATION:Napoli – Spazio Sirena Palazzo Reale\, Piazza del Plebiscito\, 1\, 80132\, Napoli NA\, Italia
ATTACH;FMTTYPE=image/png:https://youth4planet.legambiente.it/wp-content/uploads/2022/09/Climate-Justice.png
ORGANIZER;CN="Grazia%20Maria%20Forino":MAILTO:gm.forino@legambiente.campania.it
END:VEVENT
END:VCALENDAR