BEGIN:VCALENDAR
VERSION:2.0
PRODID:-//Youth4planet di Legambiente - ECPv5.9.1//NONSGML v1.0//EN
CALSCALE:GREGORIAN
METHOD:PUBLISH
X-WR-CALNAME:Youth4planet di Legambiente
X-ORIGINAL-URL:https://youth4planet.legambiente.it
X-WR-CALDESC:Eventi per Youth4planet di Legambiente
BEGIN:VTIMEZONE
TZID:Europe/Rome
BEGIN:DAYLIGHT
TZOFFSETFROM:+0100
TZOFFSETTO:+0200
TZNAME:CEST
DTSTART:20220327T010000
END:DAYLIGHT
BEGIN:STANDARD
TZOFFSETFROM:+0200
TZOFFSETTO:+0100
TZNAME:CET
DTSTART:20221030T010000
END:STANDARD
END:VTIMEZONE
BEGIN:VEVENT
DTSTART;TZID=Europe/Rome:20220512T153000
DTEND;TZID=Europe/Rome:20220512T173000
DTSTAMP:20260420T111217
CREATED:20220510T120503Z
LAST-MODIFIED:20220510T120503Z
UID:1741-1652369400-1652376600@youth4planet.legambiente.it
SUMMARY:Clean up our beaches - Boccadoro
DESCRIPTION:In occasione della campagna Spiagge e Fondali Puliti\, abbiamo organizzato una visita guidata all’area naturalistica di Boccadoro. \nSarà un percorso partecipativo per l’inserimento dell’area nella rete regionale e nazionale degli Ecomusei. \nIn seguito faremo un Clean-up dell’area costiera con volontari internazionale Erasmus+. \nAppuntamento alle 15:30 alla vasca di Boccadoro \nPer partecipare con noi\, iscriviti a questo link: https://volontariato.legambiente.it/eventi/spiagge-e-fondali-puliti
URL:https://youth4planet.legambiente.it/evento/clean-up-our-beaches-boccadoro/
LOCATION:Trani\, Piazza della Repubblica\, Trani\, Italia
ATTACH;FMTTYPE=image/png:https://youth4planet.legambiente.it/wp-content/uploads/2022/05/Clean-up-our-beaches-.png
ORGANIZER;CN="Cristina%20Monterisi":MAILTO:volontariato.legambientepuglia@gmail.com
END:VEVENT
END:VCALENDAR