BEGIN:VCALENDAR
VERSION:2.0
PRODID:-//Youth4planet di Legambiente - ECPv5.9.1//NONSGML v1.0//EN
CALSCALE:GREGORIAN
METHOD:PUBLISH
X-WR-CALNAME:Youth4planet di Legambiente
X-ORIGINAL-URL:https://youth4planet.legambiente.it
X-WR-CALDESC:Eventi per Youth4planet di Legambiente
BEGIN:VTIMEZONE
TZID:Europe/Rome
BEGIN:DAYLIGHT
TZOFFSETFROM:+0100
TZOFFSETTO:+0200
TZNAME:CEST
DTSTART:20210328T010000
END:DAYLIGHT
BEGIN:STANDARD
TZOFFSETFROM:+0200
TZOFFSETTO:+0100
TZNAME:CET
DTSTART:20211031T010000
END:STANDARD
END:VTIMEZONE
BEGIN:VEVENT
DTSTART;VALUE=DATE:20211106
DTEND;VALUE=DATE:20211108
DTSTAMP:20260423T020359
CREATED:20211028T130451Z
LAST-MODIFIED:20211028T182415Z
UID:1170-1636156800-1636329599@youth4planet.legambiente.it
SUMMARY:Campi di Prossimità
DESCRIPTION:Tornano i campi di prossimità: questa volta all’interno del Parco Regionale Adda Nord nella bellissima area della Palude di Brivio.\n\nIl campo si terrà sabato 6 e domenica 7 novembre e sarà suddiviso in tre momenti distinti:\n\n\nsabato 6 novembre dalle 14 alle 17 – interventi di ripristino e manutenzione ambientale della palude (adatto a tutti). Al termine\, tè caldo offerto.\ndomenica 7 novembre 9.30 – 12 – passeggiata naturalistica alla scoperta dell’avifauna della palude. Al termine\, pranzo insieme: ognuno porta qualcosa\, vino e caffè offerti.\ndomenica 7 novembre dalle 14 alle 17 – interventi di ripristino e manutenzione ambientale della palude (adatto a tutti). Al termine\, vin brûlé.\n\n\nIl campo è completamente gratuito per i tesserati Legambiente. Se non hai la tessera la potrai fare al banchetto di iscrizione appena prima di cominciare.\n\nPer partecipare è obbligatoria l’iscrizione attraverso il format qui sotto.\n I posti sono limitati\, verrà quindi inviata una mail di conferma dell’avvenuta iscrizione con i dettagli relativi all’incontro.\nSono raccomandati scarponcini impermeabili. In caso di pioggia l’evento sarà rimandato alla settimana successiva.\nL’evento si svolgerà nel rispetto delle normative Covid.
URL:https://youth4planet.legambiente.it/evento/campi-di-prossimita/
LOCATION:MILANO – Parco Adda Nord\, Via Padre Benigno Calvi\, 3\,\, Trezzo sull'Adda (MI)\, 20056\, Italia
ATTACH;FMTTYPE=image/png:https://youth4planet.legambiente.it/wp-content/uploads/2021/10/campi-di-prossimita.png
ORGANIZER;CN="Selene%20Mosti":MAILTO:info@legambientelecco.it
END:VEVENT
END:VCALENDAR