BEGIN:VCALENDAR
VERSION:2.0
PRODID:-//Youth4planet di Legambiente - ECPv5.9.1//NONSGML v1.0//EN
CALSCALE:GREGORIAN
METHOD:PUBLISH
X-WR-CALNAME:Youth4planet di Legambiente
X-ORIGINAL-URL:https://youth4planet.legambiente.it
X-WR-CALDESC:Eventi per Youth4planet di Legambiente
BEGIN:VTIMEZONE
TZID:Europe/Rome
BEGIN:DAYLIGHT
TZOFFSETFROM:+0100
TZOFFSETTO:+0200
TZNAME:CEST
DTSTART:20220327T010000
END:DAYLIGHT
BEGIN:STANDARD
TZOFFSETFROM:+0200
TZOFFSETTO:+0100
TZNAME:CET
DTSTART:20221030T010000
END:STANDARD
END:VTIMEZONE
BEGIN:VEVENT
DTSTART;TZID=Europe/Rome:20220407T170000
DTEND;TZID=Europe/Rome:20220407T170000
DTSTAMP:20260423T113952
CREATED:20220330T130440Z
LAST-MODIFIED:20220330T130440Z
UID:1608-1649350800-1649350800@youth4planet.legambiente.it
SUMMARY:Beach Litter a Rimini
DESCRIPTION:Il 7 aprile a Rimini\, nella spiaggia libera di San Giuliano\, delimiteremo l’area utile a continuare lo studio SUP (single use plastic).  In seguito\, raccoglieremo il materiale e lo catalogheremo insieme. \nInformazioni utili per partecipare \n🗓️Luogo e ora: appuntamento il 7 aprile alle 17 \n📌punto d’incontro: spiaggia libera di San Giuliano a Rimini
URL:https://youth4planet.legambiente.it/evento/beach-litter-a-rimini/
LOCATION:Rimini – spiaggia libera di San Giuliano\, Viale Ortigara\, 78\, Rimini RN\, 47921\, Italia
ATTACH;FMTTYPE=image/png:https://youth4planet.legambiente.it/wp-content/uploads/2022/03/Y4P-beach-litter.png
ORGANIZER;CN="Massimiliano%20Ugolini":MAILTO:legambientevalmarecchia@gmail.com
END:VEVENT
END:VCALENDAR