BEGIN:VCALENDAR
VERSION:2.0
PRODID:-//Youth4planet di Legambiente - ECPv5.9.1//NONSGML v1.0//EN
CALSCALE:GREGORIAN
METHOD:PUBLISH
X-WR-CALNAME:Youth4planet di Legambiente
X-ORIGINAL-URL:https://youth4planet.legambiente.it
X-WR-CALDESC:Eventi per Youth4planet di Legambiente
BEGIN:VTIMEZONE
TZID:Europe/Rome
BEGIN:DAYLIGHT
TZOFFSETFROM:+0100
TZOFFSETTO:+0200
TZNAME:CEST
DTSTART:20220327T010000
END:DAYLIGHT
BEGIN:STANDARD
TZOFFSETFROM:+0200
TZOFFSETTO:+0100
TZNAME:CET
DTSTART:20221030T010000
END:STANDARD
END:VTIMEZONE
BEGIN:VEVENT
DTSTART;TZID=Europe/Rome:20220508T093000
DTEND;TZID=Europe/Rome:20220508T173000
DTSTAMP:20260420T151505
CREATED:20220323T122341Z
LAST-MODIFIED:20220413T092814Z
UID:1532-1652002200-1652031000@youth4planet.legambiente.it
SUMMARY:Apulian Green Meeting a Bari
DESCRIPTION:📌 Il prossimo 8 maggio 𝐚 𝐁𝐚𝐫𝐢 si svolgerà l’𝐀𝐩𝐮𝐥𝐢𝐚𝐧 𝐆𝐫𝐞𝐞𝐧 𝐌𝐞𝐞𝐭𝐢𝐧𝐠\, una giornata all’insegna di 𝐰𝐨𝐫𝐤𝐬𝐡𝐨𝐩 𝐭𝐞𝐦𝐚𝐭𝐢𝐜𝐢\, 𝐝𝐢𝐬𝐜𝐮𝐬𝐬𝐢𝐨𝐧𝐞 𝐞 𝐜𝐨𝐧𝐟𝐫𝐨𝐧𝐭𝐨 𝐬𝐮𝐢 𝐭𝐞𝐦𝐢 𝐝𝐞𝐥 𝐜𝐚𝐦𝐛𝐢𝐚𝐦𝐞𝐧𝐭𝐨 𝐜𝐥𝐢𝐦𝐚𝐭𝐢𝐜𝐨 𝐞 𝐬𝐮𝐥𝐥𝐞 𝐚𝐳𝐢𝐨𝐧𝐢 che possiamo mettere in pratica per tutelare il nostro pianeta. \nIl meeting si svolgerà nella sede di Legambiente Puglia\, presso via della Resistenza 48B/2 con 𝐫𝐢𝐭𝐫𝐨𝐯𝐨 alle 𝐨𝐫𝐞 𝟗.𝟑𝟎. Il pranzo lo offriamo noi! \nAttraverso attività di team building\, tecniche di educazione non formale\, teatro sociale\, approfondimenti e tavoli di lavoro\, ci confronteremo sul 𝐭𝐞𝐦𝐚 𝐝𝐞𝐥𝐥𝐚 𝐭𝐫𝐚𝐧𝐬𝐢𝐳𝐢𝐨𝐧𝐞 𝐞𝐧𝐞𝐫𝐠𝐞𝐭𝐢𝐜𝐚\, con successiva redazione di una condivisa e integrata campagna di comunicazione sull’ argomento 💪 \nL’𝐢𝐧𝐜𝐨𝐧𝐭𝐫𝐨 𝐞̀ 𝐚𝐩𝐞𝐫𝐭𝐨 𝐚 𝐭𝐮𝐭𝐭𝐢 𝐜𝐨𝐥𝐨𝐫𝐨 𝐜𝐡𝐞 𝐡𝐚𝐧𝐧𝐨 𝐯𝐨𝐠𝐥𝐢𝐚 𝐝𝐢 𝐦𝐞𝐭𝐭𝐞𝐫𝐬𝐢 𝐢𝐧 𝐠𝐢𝐨𝐜𝐨 e portare con sé entusiasmo e tante idee ( non obbligatoriamente tesserati a Legambiente)! \n⚠️Obbligatorio green pass ⚠️ \nCompila QUI il Form e Registrati all’evento\nTi aspettiamo!
URL:https://youth4planet.legambiente.it/evento/apulian-green-meeting-a-bari/
LOCATION:Bari – Legambiente Puglia\, via della Resistenza 48B/2\, Bari\, Italia
ATTACH;FMTTYPE=image/png:https://youth4planet.legambiente.it/wp-content/uploads/2022/03/apuliangreenmeeting.png
ORGANIZER;CN="Cristina%20Monterisi":MAILTO:volontariato.legambientepuglia@gmail.com
END:VEVENT
END:VCALENDAR